BEGIN:VCALENDAR
VERSION:2.0
PRODID:-//Travel Supplier Directory - ECPv5.14.1//NONSGML v1.0//EN
CALSCALE:GREGORIAN
METHOD:PUBLISH
X-WR-CALNAME:Travel Supplier Directory
X-ORIGINAL-URL:https://travelsupplierdirectory.com
X-WR-CALDESC:Events for Travel Supplier Directory
REFRESH-INTERVAL;VALUE=DURATION:PT1H
X-Robots-Tag:noindex
X-PUBLISHED-TTL:PT1H
BEGIN:VTIMEZONE
TZID:UTC
BEGIN:STANDARD
TZOFFSETFROM:+0000
TZOFFSETTO:+0000
TZNAME:UTC
DTSTART:20240101T000000
END:STANDARD
END:VTIMEZONE
BEGIN:VEVENT
DTSTART;VALUE=DATE:20240117
DTEND;VALUE=DATE:20240122
DTSTAMP:20260426T035627
CREATED:20230804T075610Z
LAST-MODIFIED:20230804T075610Z
UID:3970-1705449600-1705881599@travelsupplierdirectory.com
SUMMARY:Private Luxury- Dubai
DESCRIPTION:One of the most captivating cosmopolitan cities in the world\, Dubai is a traveller’s dream\, drawing in lovers of nature\, photography\, adventure\, art\, history\, and fine cuisine. From star-studded desert skies to the city’s glittering skyline\, Dubai effortlessly blends contemporary luxury with Arabian charm and unmatched hospitality. \nExperience the ultimate in luxury at Atlantis The Royal\, our host venue for Private Luxury Dubai. Immerse yourself in the glamour and sophistication of this world-renowned hotel while you enjoy exclusive access to sought-after experiences and networking opportunities. \nThis edition brings together 120 Middle East\, European\, and Asian buyers with 110 worldwide exhibitors to meet and network. With a carefully curated agenda that includes personalised meetings to fit your business needs\, exclusive experiences\, and lush evening extravaganzas\, this is an event that is not to be missed. Come see for yourself what the Pearl of the Middle East has to show you.
URL:https://travelsupplierdirectory.com/event/private-luxury-dubai/
LOCATION:Atlantis The Royal
END:VEVENT
END:VCALENDAR