BEGIN:VCALENDAR
VERSION:2.0
PRODID:-//Travel Supplier Directory - ECPv5.14.1//NONSGML v1.0//EN
CALSCALE:GREGORIAN
METHOD:PUBLISH
X-WR-CALNAME:Travel Supplier Directory
X-ORIGINAL-URL:https://travelsupplierdirectory.com
X-WR-CALDESC:Events for Travel Supplier Directory
REFRESH-INTERVAL;VALUE=DURATION:PT1H
X-Robots-Tag:noindex
X-PUBLISHED-TTL:PT1H
BEGIN:VTIMEZONE
TZID:UTC
BEGIN:STANDARD
TZOFFSETFROM:+0000
TZOFFSETTO:+0000
TZNAME:UTC
DTSTART:20240101T000000
END:STANDARD
END:VTIMEZONE
BEGIN:VEVENT
DTSTART;VALUE=DATE:20240309
DTEND;VALUE=DATE:20240311
DTSTAMP:20260425T182035
CREATED:20230804T081534Z
LAST-MODIFIED:20230804T081534Z
UID:3988-1709942400-1710115199@travelsupplierdirectory.com
SUMMARY:Travel & Adventure Show - Atlanta
DESCRIPTION:Get ready to pack your bags and make the first stop on your next vacation the Atlanta Travel & Adventure Show! You’ll discover thousands of vacation options from the top destinations\, tour operators and travel providers from around the globe\, and meet the travel experts who are on-hand to help you plan and book your trip. With 4 on-floor theaters you’ll receive the most up to date travel tips and advice\, with the chance to meet your favorite travel celebrity. Plus\, you’ll have access to show-only travel savings\, trip giveaways and show-only deals\, right at your fingertips! Click below to learn more and buy tickets\, and we’ll see you at the Atlanta Travel & Adventure Show.
URL:https://travelsupplierdirectory.com/event/travel-adventure-show-atlanta/
LOCATION:Cobb Galleria Centre
END:VEVENT
END:VCALENDAR