BEGIN:VCALENDAR
VERSION:2.0
PRODID:-//Travel Supplier Directory - ECPv5.14.1//NONSGML v1.0//EN
CALSCALE:GREGORIAN
METHOD:PUBLISH
X-WR-CALNAME:Travel Supplier Directory
X-ORIGINAL-URL:https://travelsupplierdirectory.com
X-WR-CALDESC:Events for Travel Supplier Directory
REFRESH-INTERVAL;VALUE=DURATION:PT1H
X-Robots-Tag:noindex
X-PUBLISHED-TTL:PT1H
BEGIN:VTIMEZONE
TZID:UTC
BEGIN:STANDARD
TZOFFSETFROM:+0000
TZOFFSETTO:+0000
TZNAME:UTC
DTSTART:20240101T000000
END:STANDARD
END:VTIMEZONE
BEGIN:VEVENT
DTSTART;TZID=UTC:20240311T000000
DTEND;TZID=UTC:20240311T235900
DTSTAMP:20260426T000209
CREATED:20230804T073857Z
LAST-MODIFIED:20230804T073857Z
UID:3935-1710115200-1710201540@travelsupplierdirectory.com
SUMMARY:Peninsula Shows - Atlanta
DESCRIPTION:Our innovative round table format is designed to enhance daily sales efforts and facilitate lasting professional relationships. Attend one of our trade shows for groundbreaking educational opportunities to streamline your sales process. Additionally\, all guests are treated to a full-course dinner complete with door prizes!
URL:https://travelsupplierdirectory.com/event/peninsula-shows-atlanta/
LOCATION:Atlanta
END:VEVENT
END:VCALENDAR