BEGIN:VCALENDAR
VERSION:2.0
PRODID:-//Travel Supplier Directory - ECPv5.14.1//NONSGML v1.0//EN
CALSCALE:GREGORIAN
METHOD:PUBLISH
X-WR-CALNAME:Travel Supplier Directory
X-ORIGINAL-URL:https://travelsupplierdirectory.com
X-WR-CALDESC:Events for Travel Supplier Directory
REFRESH-INTERVAL;VALUE=DURATION:PT1H
X-Robots-Tag:noindex
X-PUBLISHED-TTL:PT1H
BEGIN:VTIMEZONE
TZID:UTC
BEGIN:STANDARD
TZOFFSETFROM:+0000
TZOFFSETTO:+0000
TZNAME:UTC
DTSTART:20240101T000000
END:STANDARD
END:VTIMEZONE
BEGIN:VEVENT
DTSTART;VALUE=DATE:20240313
DTEND;VALUE=DATE:20240317
DTSTAMP:20260425T102842
CREATED:20230804T063032Z
LAST-MODIFIED:20230804T063032Z
UID:3873-1710288000-1710633599@travelsupplierdirectory.com
SUMMARY:ASTA Global River Cruise Expo
DESCRIPTION:Event Highlights Include:\n\nReceive first-hand training from the industry’s top river cruise trainers\nMeet and socialize with the senior leaders of the premier River Cruise brands\nVisit and experience the river cruise destinations that will amaze and delight your clients\n\nInteresting Facts:\n\nAmsterdam is one of the most diverse cities in the world\, home to people of 176 different nationalities.\nAmsterdam was built in the 12th century among swampland by fishermen.\nAmsterdam has over 1\,700 bridges!\nThere are more than 160 canals that separate Amsterdam into 90 different islands.\nOver 70% of locals bike to and from work and school every day.\nNational Tulip Day celebrates the national flower with a display of over 200\,000 tulips in Dam Square.\nFamous cheese originating from the Netherlands include Old Amsterdam\, Edam and Gouda.\nThe Dutch Olympic team has won more Olympic speed skating medals than any other country.
URL:https://travelsupplierdirectory.com/event/asta-global-river-cruise-expo/
LOCATION:Hôtel Mövenpick Amsterdam City Centre\, Amsterdam
END:VEVENT
BEGIN:VEVENT
DTSTART;VALUE=DATE:20240313
DTEND;VALUE=DATE:20240317
DTSTAMP:20260425T102842
CREATED:20230804T075810Z
LAST-MODIFIED:20230804T075810Z
UID:3973-1710288000-1710633599@travelsupplierdirectory.com
SUMMARY:River Cruise Expo 2024
DESCRIPTION:Event Highlights Include:\n\nReceive first-hand training from the industry’s top river cruise trainers\nMeet and socialize with the senior leaders of the premier River Cruise brands\nVisit and experience the river cruise destinations that will amaze and delight your clients\n\n\n\n\n\n\n\nInteresting Facts:\n\nAmsterdam is one of the most diverse cities in the world\, home to people of 176 different nationalities.\nAmsterdam was built in the 12th century among swampland by fishermen.\nAmsterdam has over 1\,700 bridges!\nThere are more than 160 canals that separate Amsterdam into 90 different islands.\nOver 70% of locals bike to and from work and school every day.\nNational Tulip Day celebrates the national flower with a display of over 200\,000 tulips in Dam Square.\nFamous cheese originating from the Netherlands include Old Amsterdam\, Edam and Gouda.\nThe Dutch Olympic team has won more Olympic speed skating medals than any other country.
URL:https://travelsupplierdirectory.com/event/river-cruise-expo-2024/
LOCATION:Amsterdam
END:VEVENT
END:VCALENDAR