BEGIN:VCALENDAR
VERSION:2.0
PRODID:-//Travel Supplier Directory - ECPv5.14.1//NONSGML v1.0//EN
CALSCALE:GREGORIAN
METHOD:PUBLISH
X-WR-CALNAME:Travel Supplier Directory
X-ORIGINAL-URL:https://travelsupplierdirectory.com
X-WR-CALDESC:Events for Travel Supplier Directory
REFRESH-INTERVAL;VALUE=DURATION:PT1H
X-Robots-Tag:noindex
X-PUBLISHED-TTL:PT1H
BEGIN:VTIMEZONE
TZID:UTC
BEGIN:STANDARD
TZOFFSETFROM:+0000
TZOFFSETTO:+0000
TZNAME:UTC
DTSTART:20240101T000000
END:STANDARD
END:VTIMEZONE
BEGIN:VEVENT
DTSTART;VALUE=DATE:20240324
DTEND;VALUE=DATE:20240328
DTSTAMP:20260425T231140
CREATED:20230804T075441Z
LAST-MODIFIED:20230804T075441Z
UID:3966-1711238400-1711583999@travelsupplierdirectory.com
SUMMARY:Private Luxury- Copenhagen
DESCRIPTION:A beautiful and culturally rich city with so much to offer travellers\, Copenhagen is famous for its colourful architecture\, charming canals\, world-class fine dining\, and sublime luxury experiences. \nExperience the fusion of old-world charm and conscious luxury at Villa Copenhagen\, our host venue for Private Luxury. Be enthralled by a city that exudes and embraces the Dane way of life\, where the past\, present\, and future come together in an inspiring and playful ambience. \nThis edition brings 140 worldwide exhibitors and 150 European luxury travel buyers together to connect through carefully matched meetings\, exceptional destination experiences\, and glamorous evening events. Come explore Copenhagen alongside the best of the industry and experience The Happiest City in the World for yourself.
URL:https://travelsupplierdirectory.com/event/private-luxury-copenhagen/
LOCATION:Villa Copenhagen
END:VEVENT
END:VCALENDAR