BEGIN:VCALENDAR
VERSION:2.0
PRODID:-//Travel Supplier Directory - ECPv5.14.1//NONSGML v1.0//EN
CALSCALE:GREGORIAN
METHOD:PUBLISH
X-WR-CALNAME:Travel Supplier Directory
X-ORIGINAL-URL:https://travelsupplierdirectory.com
X-WR-CALDESC:Events for Travel Supplier Directory
REFRESH-INTERVAL;VALUE=DURATION:PT1H
X-Robots-Tag:noindex
X-PUBLISHED-TTL:PT1H
BEGIN:VTIMEZONE
TZID:UTC
BEGIN:STANDARD
TZOFFSETFROM:+0000
TZOFFSETTO:+0000
TZNAME:UTC
DTSTART:20240101T000000
END:STANDARD
END:VTIMEZONE
BEGIN:VEVENT
DTSTART;VALUE=DATE:20240402
DTEND;VALUE=DATE:20240407
DTSTAMP:20260425T151307
CREATED:20230727T020655Z
LAST-MODIFIED:20230727T020655Z
UID:3859-1712016000-1712447999@travelsupplierdirectory.com
SUMMARY:Travelux Club
DESCRIPTION:4-day residential\, club-style event upon invitation\, with 60 pre-fixed and guaranteed appointments
URL:https://travelsupplierdirectory.com/event/travelux-club/
LOCATION:JW Marriott Venice Resort & Spa\, Isola Delle Rose Laguna Di\, 30133\, Venice\, Italy
END:VEVENT
END:VCALENDAR