BEGIN:VCALENDAR
VERSION:2.0
PRODID:-//Travel Supplier Directory - ECPv5.14.1//NONSGML v1.0//EN
CALSCALE:GREGORIAN
METHOD:PUBLISH
X-WR-CALNAME:Travel Supplier Directory
X-ORIGINAL-URL:https://travelsupplierdirectory.com
X-WR-CALDESC:Events for Travel Supplier Directory
REFRESH-INTERVAL;VALUE=DURATION:PT1H
X-Robots-Tag:noindex
X-PUBLISHED-TTL:PT1H
BEGIN:VTIMEZONE
TZID:UTC
BEGIN:STANDARD
TZOFFSETFROM:+0000
TZOFFSETTO:+0000
TZNAME:UTC
DTSTART:20240101T000000
END:STANDARD
END:VTIMEZONE
BEGIN:VEVENT
DTSTART;VALUE=DATE:20240407
DTEND;VALUE=DATE:20240410
DTSTAMP:20260425T151234
CREATED:20221119T080617Z
LAST-MODIFIED:20230804T085547Z
UID:3141-1712448000-1712707199@travelsupplierdirectory.com
SUMMARY:ILTM Africa
DESCRIPTION:ILTM Africa gives leaders in the African luxury travel market every opportunity to re-connect\, build relationships and grow their business. An invitation-only event\, the very best travel agents from across the globe meet Africa’s most spectacular luxury travel experience providers.
URL:https://travelsupplierdirectory.com/event/iltm-africa-2/
LOCATION:Kirstenbosch National Botanical Gardens\, Cape Town
ATTACH;FMTTYPE=image/png:https://travelsupplierdirectory.com/wp-content/uploads/2022/04/ILTM_Africa_21_Logo_atlas_125.png
END:VEVENT
END:VCALENDAR