BEGIN:VCALENDAR
VERSION:2.0
PRODID:-//Travel Supplier Directory - ECPv5.14.1//NONSGML v1.0//EN
CALSCALE:GREGORIAN
METHOD:PUBLISH
X-WR-CALNAME:Travel Supplier Directory
X-ORIGINAL-URL:https://travelsupplierdirectory.com
X-WR-CALDESC:Events for Travel Supplier Directory
REFRESH-INTERVAL;VALUE=DURATION:PT1H
X-Robots-Tag:noindex
X-PUBLISHED-TTL:PT1H
BEGIN:VTIMEZONE
TZID:UTC
BEGIN:STANDARD
TZOFFSETFROM:+0000
TZOFFSETTO:+0000
TZNAME:UTC
DTSTART:20240101T000000
END:STANDARD
END:VTIMEZONE
BEGIN:VEVENT
DTSTART;VALUE=DATE:20240414
DTEND;VALUE=DATE:20240420
DTSTAMP:20260425T115736
CREATED:20220419T131441Z
LAST-MODIFIED:20230804T090248Z
UID:1414-1713052800-1713571199@travelsupplierdirectory.com
SUMMARY:Mountain Travel Symposium
DESCRIPTION:Mountain Travel Symposium is the largest and longest running annual gathering of mountain travel professionals in the world. More than 800 representatives from 35+ countries establish relationships\, build their business\, pursue professional development and create a stronger mountain community.
URL:https://travelsupplierdirectory.com/event/mountain-travel-symposium/
LOCATION:North Lake Tahoe\, CA
ATTACH;FMTTYPE=image/png:https://travelsupplierdirectory.com/wp-content/uploads/2022/04/download-1-1.png
END:VEVENT
BEGIN:VEVENT
DTSTART;VALUE=DATE:20240416
DTEND;VALUE=DATE:20240422
DTSTAMP:20260425T115736
CREATED:20221119T073827Z
LAST-MODIFIED:20230804T084927Z
UID:3120-1713225600-1713743999@travelsupplierdirectory.com
SUMMARY:CLIA Cruise360
DESCRIPTION:The biggest professional development event of the year\, Cruise360 features a week’s worth of professional development\, ship inspections\, networking and the latest industry trends. \nAs the largest and only official conference of the cruise industry\, Cruise360 brings together travel professionals\, cruise line representatives\, ports & destinations\, industry suppliers and CLIA preferred partners for a truly panoramic view of the cruise industry.
URL:https://travelsupplierdirectory.com/event/clia-cruise360/
LOCATION:Greater Fort Lauderdale / Broward County Convention Center Fort Lauderdale\, FL\, FL\, United States
ATTACH;FMTTYPE=image/png:https://travelsupplierdirectory.com/wp-content/uploads/2022/11/download-7.png
ORGANIZER;CN="Cruise360":MAILTO:training@cruising.org
END:VEVENT
END:VCALENDAR