BEGIN:VCALENDAR
VERSION:2.0
PRODID:-//Travel Supplier Directory - ECPv5.14.1//NONSGML v1.0//EN
CALSCALE:GREGORIAN
METHOD:PUBLISH
X-WR-CALNAME:Travel Supplier Directory
X-ORIGINAL-URL:https://travelsupplierdirectory.com
X-WR-CALDESC:Events for Travel Supplier Directory
REFRESH-INTERVAL;VALUE=DURATION:PT1H
X-Robots-Tag:noindex
X-PUBLISHED-TTL:PT1H
BEGIN:VTIMEZONE
TZID:UTC
BEGIN:STANDARD
TZOFFSETFROM:+0000
TZOFFSETTO:+0000
TZNAME:UTC
DTSTART:20240101T000000
END:STANDARD
END:VTIMEZONE
BEGIN:VEVENT
DTSTART;VALUE=DATE:20240602
DTEND;VALUE=DATE:20240605
DTSTAMP:20260425T161909
CREATED:20221118T094558Z
LAST-MODIFIED:20230804T085421Z
UID:3093-1717286400-1717545599@travelsupplierdirectory.com
SUMMARY:GTM (Global Travel Marketplace) West
DESCRIPTION:GTM is an elite appointment-only event that connects the most influential travel advisors in North America with global travel suppliers in face-to-face meetings and Boardroom sessions. This boutique-style event provides a professional platform for the best sellers in the industry\, encouraging them to expand their supplier portfolio and grow their global book of business. \nGTM’s travel advisors represent the top producers in the travel industry\, vetted through a meticulous screening process in order to attend.\nAdvisors selected to attend are fully hosted.
URL:https://travelsupplierdirectory.com/event/gtm-global-travel-marketplace-flagship/
LOCATION:Westin Lake Las Vegas Resort & Spa\, Las Vegas/Henderson\, NV\, Hilton Lake Las Vegas Resort & Spa\, Las Vegas/Henderson\, NV
ATTACH;FMTTYPE=image/png:https://travelsupplierdirectory.com/wp-content/uploads/2022/04/GTM_CorpSite_474x194.png
END:VEVENT
END:VCALENDAR