BEGIN:VCALENDAR
VERSION:2.0
PRODID:-//Travel Supplier Directory - ECPv5.14.1//NONSGML v1.0//EN
CALSCALE:GREGORIAN
METHOD:PUBLISH
X-WR-CALNAME:Travel Supplier Directory
X-ORIGINAL-URL:https://travelsupplierdirectory.com
X-WR-CALDESC:Events for Travel Supplier Directory
REFRESH-INTERVAL;VALUE=DURATION:PT1H
X-Robots-Tag:noindex
X-PUBLISHED-TTL:PT1H
BEGIN:VTIMEZONE
TZID:UTC
BEGIN:STANDARD
TZOFFSETFROM:+0000
TZOFFSETTO:+0000
TZNAME:UTC
DTSTART:20240101T000000
END:STANDARD
END:VTIMEZONE
BEGIN:VEVENT
DTSTART;VALUE=DATE:20240613
DTEND;VALUE=DATE:20240614
DTSTAMP:20260424T234008
CREATED:20230804T082753Z
LAST-MODIFIED:20230804T083024Z
UID:4013-1718236800-1718323199@travelsupplierdirectory.com
SUMMARY:TravelAge West Wave Awards
DESCRIPTION:TravelAge West’s Excellence in Leadership Award celebrates a long-standing icon of the travel industry\, and recognizes their lifelong commitment to the betterment of the industry. \nEach year\, TravelAge West honors individuals with the Excellence in Leadership Award. These exceptional industry leaders not only demonstrate outstanding leadership\, insight and innovation\, but also positively impact both their own organizations and the travel industry overall. \nFor 2023\, TravelAge West is honored to present this award to three worthy recipients\, Rodrigo Esponda Cascajares with the Los Cabos Tourism Board\, Scott Koepf with Cruise Planners and Michele Saegesser with Viking.
URL:https://travelsupplierdirectory.com/event/travel-agent-forum-las-vegas-2/
LOCATION:The Ritz-Carlton\, Marina Del Rey
END:VEVENT
END:VCALENDAR