BEGIN:VCALENDAR
VERSION:2.0
PRODID:-//Travel Supplier Directory - ECPv5.14.1//NONSGML v1.0//EN
CALSCALE:GREGORIAN
METHOD:PUBLISH
X-WR-CALNAME:Travel Supplier Directory
X-ORIGINAL-URL:https://travelsupplierdirectory.com
X-WR-CALDESC:Events for Travel Supplier Directory
REFRESH-INTERVAL;VALUE=DURATION:PT1H
X-Robots-Tag:noindex
X-PUBLISHED-TTL:PT1H
BEGIN:VTIMEZONE
TZID:UTC
BEGIN:STANDARD
TZOFFSETFROM:+0000
TZOFFSETTO:+0000
TZNAME:UTC
DTSTART:20240101T000000
END:STANDARD
END:VTIMEZONE
BEGIN:VEVENT
DTSTART;VALUE=DATE:20241027
DTEND;VALUE=DATE:20241031
DTSTAMP:20260423T104130
CREATED:20221119T074658Z
LAST-MODIFIED:20230804T090941Z
UID:3127-1729987200-1730332799@travelsupplierdirectory.com
SUMMARY:TFEST
DESCRIPTION:It’s the most desirable luxury travel show in the industry! Don’t miss the next Chapter of TFest - the movement continues.\n\nA MOVEMENT TO PUT HUMANS FIRST AND BUSINESS SECOND. THIS IS THE NEW AGE OF TRADE SHOWS.
URL:https://travelsupplierdirectory.com/event/tfest/
LOCATION:Fairmont Mayakoba\, Mexico\, Mexico
ATTACH;FMTTYPE=image/png:https://travelsupplierdirectory.com/wp-content/uploads/2022/11/images.png
END:VEVENT
END:VCALENDAR