BEGIN:VCALENDAR
VERSION:2.0
PRODID:-//Travel Supplier Directory - ECPv5.14.1//NONSGML v1.0//EN
CALSCALE:GREGORIAN
METHOD:PUBLISH
X-WR-CALNAME:Travel Supplier Directory
X-ORIGINAL-URL:https://travelsupplierdirectory.com
X-WR-CALDESC:Events for Travel Supplier Directory
REFRESH-INTERVAL;VALUE=DURATION:PT1H
X-Robots-Tag:noindex
X-PUBLISHED-TTL:PT1H
BEGIN:VTIMEZONE
TZID:UTC
BEGIN:STANDARD
TZOFFSETFROM:+0000
TZOFFSETTO:+0000
TZNAME:UTC
DTSTART:20220101T000000
END:STANDARD
END:VTIMEZONE
BEGIN:VEVENT
DTSTART;VALUE=DATE:20220502
DTEND;VALUE=DATE:20220505
DTSTAMP:20260426T021554
CREATED:20220416T060633Z
LAST-MODIFIED:20220420T143014Z
UID:1189-1651449600-1651708799@travelsupplierdirectory.com
SUMMARY:GTM (Global Travel Marketplace) West
DESCRIPTION:GTM is an elite appointment-only event that connects the most influential travel advisors in North America with global travel suppliers in face-to-face meetings and Boardroom sessions. This boutique-style event provides a professional platform for the best sellers in the industry\, encouraging them to expand their supplier portfolio and grow their global book of business. \nGTM’s travel advisors represent the top producers in the travel industry\, vetted through a meticulous screening process in order to attend.\nAdvisors selected to attend are fully hosted.
URL:https://travelsupplierdirectory.com/event/gtm-west/
LOCATION:Westin La Paloma Resort & Spa\, Tucson\, AZ\, Tucson\, AZ\, United States
ATTACH;FMTTYPE=image/png:https://travelsupplierdirectory.com/wp-content/uploads/2022/04/GTM_West_CorpSite_474x194copy.png
END:VEVENT
BEGIN:VEVENT
DTSTART;TZID=UTC:20220420T140000
DTEND;TZID=UTC:20220421T170000
DTSTAMP:20260426T021554
CREATED:20220419T112935Z
LAST-MODIFIED:20220420T143014Z
UID:1373-1650463200-1650560400@travelsupplierdirectory.com
SUMMARY:The Luxury Travel & Destination Expo
DESCRIPTION:You’ll learn from other successful luxury travel agents\, along with suppliers and industry experts who will give you details on the latest and greatest in high-end vacation options\, and how to optimize your market efforts.
URL:https://travelsupplierdirectory.com/event/the-luxury-travel-destination-expo/
LOCATION:Virtual
ATTACH;FMTTYPE=image/jpeg:https://travelsupplierdirectory.com/wp-content/uploads/2022/04/travel-pulse.jpg
END:VEVENT
BEGIN:VEVENT
DTSTART;VALUE=DATE:20220410
DTEND;VALUE=DATE:20220414
DTSTAMP:20260426T021554
CREATED:20220415T100534Z
LAST-MODIFIED:20220420T142955Z
UID:1207-1649548800-1649894399@travelsupplierdirectory.com
SUMMARY:Private Luxury Europe — Bodrum\, Turkey
DESCRIPTION:A visit to Bodrum means experiencing the Turquoise Coast at its most vibrant and luxurious. The ‘Jewel of the Turkish Riviera’ is an intoxicating mix of rich culture and breathtaking scenery. \nLujo Bodrum\, with its spectacular Aegean views and private helipad and harbour\, combines luxury and comfort to perfection. The city itself is a sublime blend of history\, culture\, contemporary hotels and restaurants\, and old-world charm. \nThis edition brings 120 exhibitors and 130 buyers together to connect in one of the world’s most beautiful destinations. Come experience for yourself what makes Bodrum truly one-of-a-kind.
URL:https://travelsupplierdirectory.com/event/private-luxury-forum-bodrum-turkey/
LOCATION:Lujo Hotel\, Bodrum\, Turkey
ATTACH;FMTTYPE=image/png:https://travelsupplierdirectory.com/wp-content/uploads/2022/04/download.png
END:VEVENT
BEGIN:VEVENT
DTSTART;VALUE=DATE:20220329
DTEND;VALUE=DATE:20220404
DTSTAMP:20260426T021554
CREATED:20220415T095819Z
LAST-MODIFIED:20220420T142955Z
UID:1202-1648512000-1649030399@travelsupplierdirectory.com
SUMMARY:CLIA Cruise360 2022
DESCRIPTION:The biggest professional development event of the year\, Cruise360 features a week’s worth of professional development\, ship inspections\, networking and the latest industry trends. \nAs the largest and only official conference of the cruise industry\, Cruise360 brings together travel professionals\, cruise line representatives\, ports & destinations\, industry suppliers and CLIA preferred partners for a truly panoramic view of the cruise industry.
URL:https://travelsupplierdirectory.com/event/clia-cruise360-2022/
LOCATION:Greater Fort Lauderdale / Broward County Convention Center Fort Lauderdale\, FL\, FL\, United States
ATTACH;FMTTYPE=image/png:https://travelsupplierdirectory.com/wp-content/uploads/2022/04/C360_Logo_FortLauderdale_2022_BeaconOrange.png
ORGANIZER;CN="Cruise360":MAILTO:training@cruising.org
END:VEVENT
END:VCALENDAR