BEGIN:VCALENDAR
VERSION:2.0
PRODID:-//Travel Supplier Directory - ECPv5.14.1//NONSGML v1.0//EN
CALSCALE:GREGORIAN
METHOD:PUBLISH
X-WR-CALNAME:Travel Supplier Directory
X-ORIGINAL-URL:https://travelsupplierdirectory.com
X-WR-CALDESC:Events for Travel Supplier Directory
REFRESH-INTERVAL;VALUE=DURATION:PT1H
X-Robots-Tag:noindex
X-PUBLISHED-TTL:PT1H
BEGIN:VTIMEZONE
TZID:UTC
BEGIN:STANDARD
TZOFFSETFROM:+0000
TZOFFSETTO:+0000
TZNAME:UTC
DTSTART:20240101T000000
END:STANDARD
END:VTIMEZONE
BEGIN:VEVENT
DTSTART;VALUE=DATE:20240203
DTEND;VALUE=DATE:20240205
DTSTAMP:20260425T213954
CREATED:20230804T082003Z
LAST-MODIFIED:20230804T082003Z
UID:3984-1706918400-1707091199@travelsupplierdirectory.com
SUMMARY:Travel & Adventure Show - Los Angeles
DESCRIPTION:Get ready to pack your bags and make the first stop on your next vacation at the Los Angeles Travel & Adventure Show! You’ll discover thousands of vacation options from the top destinations\, tour operators and travel providers from around the globe\, and meet with travel experts who are on-hand to help you plan your trip. With 4 on-floor theaters you’ll receive the most up to date travel tips and advice\, with the chance to meet your favorite travel celebrity. Plus\, you’ll have access to show-only travel savings\, trip giveaways and show-only deals\, right at your fingertips! Click below to learn more and buy tickets\, and we’ll see you at the Los Angeles Travel & Adventure Show.
URL:https://travelsupplierdirectory.com/event/travel-adventure-show-los-angeles/
LOCATION:Los Angeles Convention Center
END:VEVENT
BEGIN:VEVENT
DTSTART;TZID=UTC:20240206T000000
DTEND;TZID=UTC:20240206T235900
DTSTAMP:20260425T213954
CREATED:20230804T074359Z
LAST-MODIFIED:20230804T074359Z
UID:3947-1707177600-1707263940@travelsupplierdirectory.com
SUMMARY:Peninsula Shows - Jacksonville
DESCRIPTION:Our innovative round table format is designed to enhance daily sales efforts and facilitate lasting professional relationships. Attend one of our trade shows for groundbreaking educational opportunities to streamline your sales process. Additionally\, all guests are treated to a full-course dinner complete with door prizes!
URL:https://travelsupplierdirectory.com/event/peninsula-shows-jacksonville/
LOCATION:Jacksonville\, FL
END:VEVENT
BEGIN:VEVENT
DTSTART;VALUE=DATE:20240217
DTEND;VALUE=DATE:20240219
DTSTAMP:20260425T213954
CREATED:20230804T082316Z
LAST-MODIFIED:20230804T082316Z
UID:4004-1708128000-1708300799@travelsupplierdirectory.com
SUMMARY:Travel & Adventure Show - Phoenix
DESCRIPTION:Get ready to pack your bags and make the first stop on your next vacation the Phoenix Travel & Adventure Show! You’ll discover thousands of vacation options from the top destinations\, tour operators and travel providers from around the globe\, and meet the travel experts who are on-hand to help you plan and book your trip. With 4 on-floor theaters\, you’ll receive the most up to date travel tips and advice\, with the chance to meet your favorite travel celebrity. Plus\, you’ll have access to show-only travel savings\, trip giveaways and show-only deals\, right at your fingertips! Click below to learn more and buy tickets\, and we’ll see you at the Phoenix Travel & Adventure Show.
URL:https://travelsupplierdirectory.com/event/travel-adventure-show-phoenix/
LOCATION:Phoenix Convention Center
END:VEVENT
BEGIN:VEVENT
DTSTART;VALUE=DATE:20240224
DTEND;VALUE=DATE:20240226
DTSTAMP:20260425T213954
CREATED:20230804T082610Z
LAST-MODIFIED:20230804T082610Z
UID:4010-1708732800-1708905599@travelsupplierdirectory.com
SUMMARY:Travel & Adventure Show - Washington DC
DESCRIPTION:Get ready to pack your bags and make the first stop on your next vacation the Washington DC Travel & Adventure Show! You’ll discover thousands of vacation options from the top destinations\, tour operators and travel providers from around the globe\, and meet with travel experts who are on-hand to help you plan and book your trip. With 4 on-floor theaters you’ll receive the most up to date travel tips and advice\, with the chance to meet your favorite travel celebrities. Plus\, you’ll have access to show-only travel savings\, trip giveaways and show-only deals\, right at your fingertips! Click below to learn more and buy tickets\, and we’ll see you at the Washington DC Travel & Adventure Show.
URL:https://travelsupplierdirectory.com/event/travel-adventure-show-washington-dc/
LOCATION:Washington Convention Center
END:VEVENT
BEGIN:VEVENT
DTSTART;TZID=UTC:20240227T000000
DTEND;TZID=UTC:20240227T235900
DTSTAMP:20260425T213954
CREATED:20230804T074455Z
LAST-MODIFIED:20230804T074455Z
UID:3950-1708992000-1709078340@travelsupplierdirectory.com
SUMMARY:Peninsula Shows - Melbourne
DESCRIPTION:Our innovative round table format is designed to enhance daily sales efforts and facilitate lasting professional relationships. Attend one of our trade shows for groundbreaking educational opportunities to streamline your sales process. Additionally\, all guests are treated to a full-course dinner complete with door prizes!
URL:https://travelsupplierdirectory.com/event/peninsula-shows-melbourne/
LOCATION:Melbourne
END:VEVENT
BEGIN:VEVENT
DTSTART;TZID=UTC:20240228T000000
DTEND;TZID=UTC:20240228T235900
DTSTAMP:20260425T213954
CREATED:20230804T074554Z
LAST-MODIFIED:20230804T074554Z
UID:3953-1709078400-1709164740@travelsupplierdirectory.com
SUMMARY:Peninsula Shows - Orlando
DESCRIPTION:Our innovative round table format is designed to enhance daily sales efforts and facilitate lasting professional relationships. Attend one of our trade shows for groundbreaking educational opportunities to streamline your sales process. Additionally\, all guests are treated to a full-course dinner complete with door prizes!
URL:https://travelsupplierdirectory.com/event/peninsula-shows-orlando/
LOCATION:Orlando
END:VEVENT
END:VCALENDAR