BEGIN:VCALENDAR
VERSION:2.0
PRODID:-//Travel Supplier Directory - ECPv5.14.1//NONSGML v1.0//EN
CALSCALE:GREGORIAN
METHOD:PUBLISH
X-WR-CALNAME:Travel Supplier Directory
X-ORIGINAL-URL:https://travelsupplierdirectory.com
X-WR-CALDESC:Events for Travel Supplier Directory
REFRESH-INTERVAL;VALUE=DURATION:PT1H
X-Robots-Tag:noindex
X-PUBLISHED-TTL:PT1H
BEGIN:VTIMEZONE
TZID:UTC
BEGIN:STANDARD
TZOFFSETFROM:+0000
TZOFFSETTO:+0000
TZNAME:UTC
DTSTART:20240101T000000
END:STANDARD
END:VTIMEZONE
BEGIN:VEVENT
DTSTART;VALUE=DATE:20240427
DTEND;VALUE=DATE:20240503
DTSTAMP:20260425T011959
CREATED:20230804T071041Z
LAST-MODIFIED:20230804T071041Z
UID:3908-1714176000-1714694399@travelsupplierdirectory.com
SUMMARY:IGLTA Foundation Cruise
DESCRIPTION:Set sail with Cruise Planners for a special cruise in support of the IGLTA Foundation! We are proud to partner with this incredible foundation that has a long-standing commitment to promoting equality and diversity within the travel industry. We believe that everyone deserves to travel freely and without fear of discrimination\, and we are dedicated to creating a world where LGBTQ+ individuals feel welcomed and valued in all destinations.\nWhen you book your cruise with Cruise Planners\, you’re not just embarking on an unforgettable journey\, but also making a meaningful contribution to the IGLTA Foundation. For each booking made\, Cruise Planners will donate $100 per cabin to the foundation. These funds will be used to provide valuable resources\, conduct research\, and offer educational opportunities to businesses\, helping them become more inclusive and welcoming to all travelers.
URL:https://travelsupplierdirectory.com/event/iglta-foundation-cruise/
END:VEVENT
BEGIN:VEVENT
DTSTART;VALUE=DATE:20240502
DTEND;VALUE=DATE:20240506
DTSTAMP:20260425T011959
CREATED:20230804T073049Z
LAST-MODIFIED:20230804T073049Z
UID:3928-1714608000-1714953599@travelsupplierdirectory.com
SUMMARY:North America SKÅL Congress 2024
DESCRIPTION:Find some time to breath in all that balmy air at The Leaf\, our newest world-class attraction where Canada’s tallest indoor waterfall cascades past towering palms. Discover why countless publications–from The New York Times to Forbes–have raved about Winnipeg Art Gallery-Qaumajuq\, home to the world’s largest collection of contemporary Inuit art. Strive for a better future for all within the awe-inspiring Canadian Museum for Human Rights\, and marvel at polar bears swimming overhead in the Journey to Churchill exhibit at Assiniboine Park Zoo. Tour the Exchange District\, the backdrop for many Hollywood films\, take a scenic trip on the river (even in winter!)\, and discover delicious dining throughout the city.
URL:https://travelsupplierdirectory.com/event/north-america-skal-congress-2024/
LOCATION:Winnipeg
END:VEVENT
BEGIN:VEVENT
DTSTART;VALUE=DATE:20240507
DTEND;VALUE=DATE:20240511
DTSTAMP:20260425T011959
CREATED:20230804T071323Z
LAST-MODIFIED:20230804T071323Z
UID:3910-1715040000-1715385599@travelsupplierdirectory.com
SUMMARY:ILTM Latin America
DESCRIPTION:The richness of Latin American culture welcomes the finest travel brands\, advisors and media to our Brazilian home\, São Paulo. Creating exciting itineraries\, bold new business and lifelong bonds all take place in the alpha city. \nNew advisors\, bursting diaries and cultural celebrations sum up the ILTM Latin America experience. Arrive with a great passion for our industry and leave with a jillion new adventures.
URL:https://travelsupplierdirectory.com/event/iltm-latin-america-3/
LOCATION:São Paulo\, Brazil
END:VEVENT
BEGIN:VEVENT
DTSTART;VALUE=DATE:20240529
DTEND;VALUE=DATE:20240601
DTSTAMP:20260425T011959
CREATED:20230804T084415Z
LAST-MODIFIED:20230804T084415Z
UID:4031-1716940800-1717199999@travelsupplierdirectory.com
SUMMARY:ASTA Global Convention 2024
DESCRIPTION:ASTA events are designed to meet the needs of the travel agency community. \nASTA is excited to welcome world-class tennis champion\, Venus Williams\, to host a keynote address and Q&A session on entrepreneurship and business at the 2024 ASTA Global Convention!
URL:https://travelsupplierdirectory.com/event/asta-global-convention-2024/
LOCATION:Hilton Anatole in Dallas\, Texas
ATTACH;FMTTYPE=image/png:https://travelsupplierdirectory.com/wp-content/uploads/2022/11/download-3.png
END:VEVENT
END:VCALENDAR