BEGIN:VCALENDAR
VERSION:2.0
PRODID:-//Travel Supplier Directory - ECPv5.14.1//NONSGML v1.0//EN
CALSCALE:GREGORIAN
METHOD:PUBLISH
X-WR-CALNAME:Travel Supplier Directory
X-ORIGINAL-URL:https://travelsupplierdirectory.com
X-WR-CALDESC:Events for Travel Supplier Directory
REFRESH-INTERVAL;VALUE=DURATION:PT1H
X-Robots-Tag:noindex
X-PUBLISHED-TTL:PT1H
BEGIN:VTIMEZONE
TZID:UTC
BEGIN:STANDARD
TZOFFSETFROM:+0000
TZOFFSETTO:+0000
TZNAME:UTC
DTSTART:20240101T000000
END:STANDARD
END:VTIMEZONE
BEGIN:VEVENT
DTSTART;VALUE=DATE:20240701
DTEND;VALUE=DATE:20240705
DTSTAMP:20260424T191239
CREATED:20220420T154240Z
LAST-MODIFIED:20230804T085717Z
UID:1308-1719792000-1720137599@travelsupplierdirectory.com
SUMMARY:ILTM Asia Pacific
DESCRIPTION:The Asia Pacific is far more than just China; from Australia to Korea\, Bangladesh to New Zealand\, the increasing depth and diversity of the region is clear. The highest-end suppliers\, buyers and media in the new world of APAC luxury travel gather in Singapore to create exciting new itineraries\, do business and build lifelong bonds. \nFour days of high-quality pre-scheduled appointments\, educational sessions\, networking\, parties and invaluable exposure sum up the ILTM Asia Pacific experience. This is a calendar appointment not to be missed. Live deliberately. Live diversely.
URL:https://travelsupplierdirectory.com/event/iltm-asia-pacific/
LOCATION:Marina Bay Sands\, Singapore\, Sands Expo & Convention Centre\, 10 Bayfront Ave\, Singapore 018956
ATTACH;FMTTYPE=image/png:https://travelsupplierdirectory.com/wp-content/uploads/2022/04/ILTM_APAC_153x125_Logo.png
END:VEVENT
BEGIN:VEVENT
DTSTART;VALUE=DATE:20240718
DTEND;VALUE=DATE:20240721
DTSTAMP:20260424T191239
CREATED:20221118T102231Z
LAST-MODIFIED:20230804T085217Z
UID:3104-1721260800-1721519999@travelsupplierdirectory.com
SUMMARY:GTM (Global Travel Marketplace) Flagship
DESCRIPTION:GTM is an elite appointment-only event that connects the most influential travel advisors in North America with global travel suppliers in face-to-face meetings and Boardroom sessions. This boutique-style event provides a professional platform for the best sellers in the industry\, encouraging them to expand their supplier portfolio and grow their global book of business. \nGTM’s travel advisors represent the top producers in the travel industry\, vetted through a meticulous screening process in order to attend.\nAdvisors selected to attend are fully hosted.
URL:https://travelsupplierdirectory.com/event/gtm-global-travel-marketplace-flagship-2/
LOCATION:Diplomat Beach Resort\, Fort Lauderdale/Hollywood\, FL\, DIPLOMAT BEACH RESORT\, HOLLYWOOD/FORT LAUDERDALE\, FL\, FL\, United States
ATTACH;FMTTYPE=image/png:https://travelsupplierdirectory.com/wp-content/uploads/2022/04/GTM_CorpSite_474x194.png
END:VEVENT
END:VCALENDAR