BEGIN:VCALENDAR
VERSION:2.0
PRODID:-//Travel Supplier Directory - ECPv5.14.1//NONSGML v1.0//EN
CALSCALE:GREGORIAN
METHOD:PUBLISH
X-WR-CALNAME:Travel Supplier Directory
X-ORIGINAL-URL:https://travelsupplierdirectory.com
X-WR-CALDESC:Events for Travel Supplier Directory
REFRESH-INTERVAL;VALUE=DURATION:PT1H
X-Robots-Tag:noindex
X-PUBLISHED-TTL:PT1H
BEGIN:VTIMEZONE
TZID:UTC
BEGIN:STANDARD
TZOFFSETFROM:+0000
TZOFFSETTO:+0000
TZNAME:UTC
DTSTART:20240101T000000
END:STANDARD
END:VTIMEZONE
BEGIN:VEVENT
DTSTART;TZID=UTC:20240810T110000
DTEND;TZID=UTC:20240813T073000
DTSTAMP:20260424T031744
CREATED:20230804T083442Z
LAST-MODIFIED:20230804T083442Z
UID:4021-1723287600-1723534200@travelsupplierdirectory.com
SUMMARY:WeTravel’s Tech & Innovation Summit
DESCRIPTION:That’s why WeTravel is hosting travel and tech thought leaders and industry experts for our inaugural virtual Tech and Innovation Summit. \nWith six sessions exploring the technologies\, trends and innovations that are forging the travel industry’s future\, this free one-day summit will be packed with actionable insights and key learnings to take away.
URL:https://travelsupplierdirectory.com/event/wetravels-tech-innovation-summit/
LOCATION:Virtual
END:VEVENT
END:VCALENDAR